BEGIN:VCALENDAR
VERSION:2.0
PRODID:-//Jusos Frankfurt - ECPv6.15.20//NONSGML v1.0//EN
CALSCALE:GREGORIAN
METHOD:PUBLISH
X-ORIGINAL-URL:https://jusos-frankfurt.de
X-WR-CALDESC:Veranstaltungen für Jusos Frankfurt
REFRESH-INTERVAL;VALUE=DURATION:PT1H
X-Robots-Tag:noindex
X-PUBLISHED-TTL:PT1H
BEGIN:VTIMEZONE
TZID:UTC
BEGIN:STANDARD
TZOFFSETFROM:+0000
TZOFFSETTO:+0000
TZNAME:UTC
DTSTART:20240101T000000
END:STANDARD
END:VTIMEZONE
BEGIN:VEVENT
DTSTART;VALUE=DATE:20250223
DTEND;VALUE=DATE:20250224
DTSTAMP:20260425T153120
CREATED:20250219T031405Z
LAST-MODIFIED:20250219T031405Z
UID:26570249-1740268800-1740355199@jusos-frankfurt.de
SUMMARY:doomsday
DESCRIPTION:bundestagswahlen
URL:https://jusos-frankfurt.de/veranstaltung/doomsday/
END:VEVENT
END:VCALENDAR