BEGIN:VCALENDAR
VERSION:2.0
PRODID:-//Jusos Frankfurt - ECPv6.15.20//NONSGML v1.0//EN
CALSCALE:GREGORIAN
METHOD:PUBLISH
X-WR-CALNAME:Jusos Frankfurt
X-ORIGINAL-URL:https://jusos-frankfurt.de
X-WR-CALDESC:Veranstaltungen für Jusos Frankfurt
REFRESH-INTERVAL;VALUE=DURATION:PT1H
X-Robots-Tag:noindex
X-PUBLISHED-TTL:PT1H
BEGIN:VTIMEZONE
TZID:UTC
BEGIN:STANDARD
TZOFFSETFROM:+0000
TZOFFSETTO:+0000
TZNAME:UTC
DTSTART:20240101T000000
END:STANDARD
END:VTIMEZONE
BEGIN:VEVENT
DTSTART;VALUE=DATE:20250906
DTEND;VALUE=DATE:20250907
DTSTAMP:20260423T144431
CREATED:20250904T000356Z
LAST-MODIFIED:20250904T000356Z
UID:26570811-1757116800-1757203199@jusos-frankfurt.de
SUMMARY:Landeskonferenz Jusos Hessen
DESCRIPTION:
URL:https://jusos-frankfurt.de/veranstaltung/landeskonferenz-jusos-hessen/
LOCATION:Wetzlar
CATEGORIES:Jusos Hessen,Parteitag
END:VEVENT
BEGIN:VEVENT
DTSTART;TZID=UTC:20250906T150000
DTEND;TZID=UTC:20250906T200000
DTSTAMP:20260423T144431
CREATED:20250904T000648Z
LAST-MODIFIED:20250904T000648Z
UID:26570814-1757170800-1757188800@jusos-frankfurt.de
SUMMARY:Ostendfest
DESCRIPTION:
URL:https://jusos-frankfurt.de/veranstaltung/ostendfest/
LOCATION:Paul-Arnsberg-Platz
CATEGORIES:Aktion
END:VEVENT
END:VCALENDAR