BEGIN:VCALENDAR
VERSION:2.0
PRODID:-//Jusos Frankfurt - ECPv6.15.20//NONSGML v1.0//EN
CALSCALE:GREGORIAN
METHOD:PUBLISH
X-ORIGINAL-URL:https://jusos-frankfurt.de
X-WR-CALDESC:Veranstaltungen für Jusos Frankfurt
REFRESH-INTERVAL;VALUE=DURATION:PT1H
X-Robots-Tag:noindex
X-PUBLISHED-TTL:PT1H
BEGIN:VTIMEZONE
TZID:UTC
BEGIN:STANDARD
TZOFFSETFROM:+0000
TZOFFSETTO:+0000
TZNAME:UTC
DTSTART:20240101T000000
END:STANDARD
END:VTIMEZONE
BEGIN:VEVENT
DTSTART;VALUE=DATE:20250914
DTEND;VALUE=DATE:20250915
DTSTAMP:20260423T144701
CREATED:20250904T000817Z
LAST-MODIFIED:20250904T000817Z
UID:26570817-1757808000-1757894399@jusos-frankfurt.de
SUMMARY:Lauf für mehr Zeit
DESCRIPTION:
URL:https://jusos-frankfurt.de/veranstaltung/lauf-fuer-mehr-zeit/
END:VEVENT
END:VCALENDAR